BEGIN:VCALENDAR
VERSION:2.0
PRODID:-//wp-events-plugin.com//7.2.3.1//EN
TZID:America/New_York
X-WR-TIMEZONE:America/New_York
BEGIN:VEVENT
UID:537@uvjc.org
DTSTART;TZID=America/New_York:20260425T100000
DTEND;TZID=America/New_York:20260425T140000
DTSTAMP:20260322T221523Z
URL:https://www.uvjc.org/events/2026-upper-valley-earth-week-open-house/
SUMMARY:2026 Upper Valley Earth Week Open House
DESCRIPTION:2026 Upper Valley Earth Week\nOpen House\nSaturday &amp\; Sunda
 y\, April 25-26\n10am - 2pm\n(with a few one-time tours over the weekend a
 nd on Monday\, April 20)\n\nYou are invited to come talk with your neighbo
 rs about their environmentally friendly home and facility improvements. Fi
 nd out how it helped them and their community\, how much it cost\, and how
  they saved money doing it. Learn what was easy or hard in the process.\n\
 nBring your questions about eco-friendly gardening and farms\, heat pumps\
 , solar power\, battery backup\, electric vehicles and tools\, energy audi
 ts\, insulation/weatherization\, induction stoves\, low-cost energy-saving
  window inserts\, and much much more! An estimated 42% of greenhouse gas e
 missions come from "kitchen table" decisions like the kind of car we drive
  and the home heating systems we use. That's a lot of power -- in your han
 ds!\n\nWHERE: 20 homes\, 5 businesses (including farms)\, and 6 non-profi
 t organizations (including 1 church and 2 colleges) in 10 Upper Valley tow
 ns\n\nHOW: Register to receive the PDF guide to the Earth Week Open House
  sites\, choose the sites that interest you\, and go! Register HERE.\n\nT
 he Upper Valley Earth Week Open House is co-sponsored by our Dayenu Circle
 .
END:VEVENT
BEGIN:VTIMEZONE
TZID:America/New_York
X-LIC-LOCATION:America/New_York
BEGIN:DAYLIGHT
DTSTART:20260308T030000
TZOFFSETFROM:-0500
TZOFFSETTO:-0400
TZNAME:EDT
END:DAYLIGHT
END:VTIMEZONE
END:VCALENDAR